BEGIN:VCALENDAR
VERSION:2.0
PRODID:icalendar-ruby
CALSCALE:GREGORIAN
X-WR-TIMEZONE:Europe/Helsinki
BEGIN:VTIMEZONE
TZID:Europe/Helsinki
BEGIN:DAYLIGHT
DTSTART:20260329T040000
TZOFFSETFROM:+0200
TZOFFSETTO:+0300
RRULE:FREQ=YEARLY;BYDAY=-1SU;BYMONTH=3
TZNAME:EEST
END:DAYLIGHT
BEGIN:STANDARD
DTSTART:20261025T030000
TZOFFSETFROM:+0300
TZOFFSETTO:+0200
RRULE:FREQ=YEARLY;BYDAY=-1SU;BYMONTH=10
TZNAME:EET
END:STANDARD
END:VTIMEZONE
BEGIN:VEVENT
DTSTAMP:20260420T204317
UID:fera.myclub.fi-10437278
DTSTART;TZID=Europe/Helsinki:20260531T183000
DTEND;TZID=Europe/Helsinki:20260531T183000
DESCRIPTION:Aikuisten harrastepesis 31.5.-13.9.2026 sunnuntaisin 18:30-20 O
 tanlahdessa.\n\nHinta 85€\, juhannusviikolla ei ole harrastepesistä.\n\
 nhttps://fera.myclub.fi/flow/events/10437278
LOCATION:Ota2\, 
SEQUENCE:0
SUMMARY:Fera ry: Aikuisten harrastepesis\, kesä 2026 
URL;VALUE=URI:https://fera.myclub.fi/flow/events/10437278
END:VEVENT
END:VCALENDAR
