BEGIN:VCALENDAR
VERSION:2.0
PRODID:icalendar-ruby
CALSCALE:GREGORIAN
X-WR-TIMEZONE:Europe/Helsinki
BEGIN:VTIMEZONE
TZID:Europe/Helsinki
BEGIN:DAYLIGHT
DTSTART:20260329T040000
TZOFFSETFROM:+0200
TZOFFSETTO:+0300
RRULE:FREQ=YEARLY;BYDAY=-1SU;BYMONTH=3
TZNAME:EEST
END:DAYLIGHT
BEGIN:STANDARD
DTSTART:20261025T030000
TZOFFSETFROM:+0300
TZOFFSETTO:+0200
RRULE:FREQ=YEARLY;BYDAY=-1SU;BYMONTH=10
TZNAME:EET
END:STANDARD
END:VTIMEZONE
BEGIN:VEVENT
DTSTAMP:20260420T205044
UID:fera.myclub.fi-10437271
DTSTART;TZID=Europe/Helsinki:20260531T161500
DTEND;TZID=Europe/Helsinki:20260531T161500
DESCRIPTION:Specialpesis on liikunnallinen ryhmä\, jossa lapset pääsevä
 t liikkumaan yhdessä ja kokeilemaan monipuolisesti eri liikkumisen perust
 aitoja sekä palloilua ja pesäpallon alkeita. Ryhmä on tarkoitettu 7-12 
 -vuotiaille erityistä tukea tarvitseville lapsille. Osallistuja huolehtii
  itse mahdollisen avustajan tuomisesta harjoituksiin.\nMukaan tarvitaan va
 in sisäliikuntaan sopivat vaatteet sekä juomapullo.\n\nHarjoitukset ovat
  sunnuntaisin klo 16:15-17:15 Otanlahden hiekkatekonurmella 31.5.-30.8.202
 6.\n\nHinta 50€ sisältää 13 ohjattua harjoitusta ja vakuutuksen.\n\nJ
 otta saamme hankittua lapselle pesispassin ja vakuutuksen\, tulee meillä 
 olla tiedossa lapsen Sportti-ID. Rekisteröitymällä Suomisporttiin henki
 lö saa oman henkilökohtaisen sporttitilin ja Sportti-ID:n. Alaikäisten 
 kohdalla huoltaja rekisteröityy ensin ja liittää sen jälkeen huolletta
 van profiilinsa alle. Molemmille tulee oma henkilökohtainen Sportti-ID. T
 ilin luomisen tai lapsen profiilin linkittämisen ongelmatilanteissa ole y
 hteydessä suomisport@asiakaspalvelu.fi.\n\nTilin voi luoda osoitteessa ww
 w.suomisport.fi kohdasta Kirjaudu.\n\nTästä voit katsoa ohjevideon sport
 titilin luomiseen:\nhttps://www.youtube.com/watch?v=r4UScEULX10&feature=yo
 utu.be\n\nKun olet rekisteröinyt lapsesi Suomisporttiin käy tallentamass
 a lapsen Sportti-ID numero MyClubin lisenssi-ID kenttään\, joten me voim
 me hankkia hänelle pesispassin ja vakuutuksen.\n\nhttps://fera.myclub.fi/
 flow/events/10437271
LOCATION:Ota2\, 
SEQUENCE:0
SUMMARY:Fera ry: Specialpesis\, kesä 2026 OTANLAHTI
URL;VALUE=URI:https://fera.myclub.fi/flow/events/10437271
END:VEVENT
END:VCALENDAR
