BEGIN:VCALENDAR
VERSION:2.0
PRODID:icalendar-ruby
CALSCALE:GREGORIAN
X-WR-TIMEZONE:Europe/Helsinki
BEGIN:VTIMEZONE
TZID:Europe/Helsinki
BEGIN:DAYLIGHT
DTSTART:20260329T040000
TZOFFSETFROM:+0200
TZOFFSETTO:+0300
RRULE:FREQ=YEARLY;BYDAY=-1SU;BYMONTH=3
TZNAME:EEST
END:DAYLIGHT
BEGIN:STANDARD
DTSTART:20261025T030000
TZOFFSETFROM:+0300
TZOFFSETTO:+0200
RRULE:FREQ=YEARLY;BYDAY=-1SU;BYMONTH=10
TZNAME:EET
END:STANDARD
END:VTIMEZONE
BEGIN:VEVENT
DTSTAMP:20260420T204522
UID:fera.myclub.fi-10437231
DTSTART;TZID=Europe/Helsinki:20260526T170000
DTEND;TZID=Europe/Helsinki:20260526T170000
DESCRIPTION:Perheliikkari järjestetään 26.5.-25.8.2026 tiistaisin klo 17
 :00-17:45 Lähdepellon hiekkakentällä. \n\nPerheliikkari on 1-3 -vuotiai
 den lasten liikuntaleikkikoulu\, jossa kannustetaan lapsia aktiivisuuteen 
 ilon kautta sekä opetellaan tunne- ja vuorovaikutustaitoja. Ryhmässä li
 ikutaan yhdessä oman vanhemman tai muun tutun aikuisen kanssa. Mukaan lap
 si tarvitsee säänmukaiset liikuntavaatteet sekä juomapullon. \n\nPerhel
 iikkarin hinta on 65€.\n\nLiikkarimaksu sisältää 14 ohjattua liikkari
 kertaa\, pesispassin sekä OP Pohjolan sporttivakuutuksen. Juhannusviikoll
 a ei ole liikkaria\n\nJotta saamme hankittua lapselle pesispassin ja vakuu
 tuksen\, tulee meillä olla tiedossa lapsen Sportti-ID. Rekisteröitymäll
 ä Suomisporttiin henkilö saa oman henkilökohtaisen sporttitilin ja Spor
 tti-ID:n. Alaikäisten kohdalla huoltaja rekisteröityy ensin ja liittää
  sen jälkeen huollettavan profiilinsa alle. Molemmille tulee oma henkilö
 kohtainen Sportti-ID. Tilin luomisen tai lapsen profiilin linkittämisen o
 ngelmatilanteissa ole yhteydessä suomisport@asiakaspalvelu.fi.\n\nTilin v
 oi luoda osoitteessa www.suomisport.fi kohdasta Kirjaudu.\n\nTästä voit 
 katsoa ohjevideon sporttitilin luomiseen:\nhttps://www.youtube.com/watch?v
 =r4UScEULX10&feature=youtu.be\n\nKun olet rekisteröinyt lapsesi Suomispor
 ttiin käy tallentamassa lapsen Sportti-ID numero MyClubin lisenssi-ID ken
 ttään\, joten me voimme hankkia hänelle pesispassin ja vakuutuksen.\n\n
 https://fera.myclub.fi/flow/events/10437231
LOCATION:Lähdepelto\, 
SEQUENCE:0
SUMMARY:Fera ry: Perhepesis\, kesä 2026\, LÄHDEPELTO
URL;VALUE=URI:https://fera.myclub.fi/flow/events/10437231
END:VEVENT
END:VCALENDAR
