BEGIN:VCALENDAR
VERSION:2.0
PRODID:icalendar-ruby
CALSCALE:GREGORIAN
X-WR-TIMEZONE:Europe/Helsinki
BEGIN:VTIMEZONE
TZID:Europe/Helsinki
BEGIN:DAYLIGHT
DTSTART:20260329T040000
TZOFFSETFROM:+0200
TZOFFSETTO:+0300
RRULE:FREQ=YEARLY;BYDAY=-1SU;BYMONTH=3
TZNAME:EEST
END:DAYLIGHT
BEGIN:STANDARD
DTSTART:20261025T030000
TZOFFSETFROM:+0300
TZOFFSETTO:+0200
RRULE:FREQ=YEARLY;BYDAY=-1SU;BYMONTH=10
TZNAME:EET
END:STANDARD
END:VTIMEZONE
BEGIN:VEVENT
DTSTAMP:20260420T204938
UID:fera.myclub.fi-10437224
DTSTART;TZID=Europe/Helsinki:20260526T180000
DTEND;TZID=Europe/Helsinki:20260526T180000
DESCRIPTION:Starttipesis  järjestetään 26.5.-25.8.2026 tiistaisin klo 18
 :00-19:00 Lähdepellon hiekkakentällä. \nStarttiipesiksessä liikutaan m
 onipuolisesti\, harjoitellaan pesäpallon lajitaitoja ja opetellaan pesäp
 allon pelaamista viitepelien ja pienpelin avulla. Mukaan lapsi tarvitsee s
 äänmukaisen ulkoliikuntavarustuksen sekä juomapullon. Starttipesis on s
 uunnattu 7-12 -vuotiaille tytöille ja pojille.\n\nStarttipesiksen hinta k
 esäkaudelta on 65€.\nHinta sisältää 14 ohjattua harjoitusta\, pesisp
 assin sekä OP Pohjolan sporttivakuutuksen. \n\nJotta saamme hankittua lap
 selle pesispassin ja vakuutuksen\, tulee meillä olla tiedossa lapsen Spor
 tti-ID. Rekisteröitymällä Suomisporttiin henkilö saa oman henkilökoht
 aisen sporttitilin ja Sportti-ID:n. Alaikäisten kohdalla huoltaja rekiste
 röityy ensin ja liittää sen jälkeen huollettavan profiilinsa alle. Mol
 emmille tulee oma henkilökohtainen Sportti-ID. Tilin luomisen tai lapsen 
 profiilin linkittämisen ongelmatilanteissa ole yhteydessä suomisport@asi
 akaspalvelu.fi.\n\nTilin voi luoda osoitteessa www.suomisport.fi kohdasta 
 Kirjaudu.\n\nTästä voit katsoa ohjevideon sporttitilin luomiseen:\nhttps
 ://www.youtube.com/watch?v=r4UScEULX10&feature=youtu.be\n\nKun olet rekist
 eröinyt lapsesi Suomisporttiin käy tallentamassa lapsen Sportti-ID numer
 o MyClubin lisenssi-ID kenttään\, joten me voimme hankkia hänelle pesis
 passin ja vakuutuksen.\n\nhttps://fera.myclub.fi/flow/events/10437224
LOCATION:Lähdepelto\, 
SEQUENCE:0
SUMMARY:Fera ry: Starttipesis\, kesä 2026 LÄHDEPELTO
URL;VALUE=URI:https://fera.myclub.fi/flow/events/10437224
END:VEVENT
END:VCALENDAR
