BEGIN:VCALENDAR
VERSION:2.0
PRODID:icalendar-ruby
CALSCALE:GREGORIAN
X-WR-TIMEZONE:Europe/Helsinki
BEGIN:VTIMEZONE
TZID:Europe/Helsinki
BEGIN:DAYLIGHT
DTSTART:20260329T040000
TZOFFSETFROM:+0200
TZOFFSETTO:+0300
RRULE:FREQ=YEARLY;BYDAY=-1SU;BYMONTH=3
TZNAME:EEST
END:DAYLIGHT
BEGIN:STANDARD
DTSTART:20261025T030000
TZOFFSETFROM:+0300
TZOFFSETTO:+0200
RRULE:FREQ=YEARLY;BYDAY=-1SU;BYMONTH=10
TZNAME:EET
END:STANDARD
END:VTIMEZONE
BEGIN:VEVENT
DTSTAMP:20260420T204449
UID:fera.myclub.fi-10437057
DTSTART;TZID=Europe/Helsinki:20260528T170000
DTEND;TZID=Europe/Helsinki:20260528T170000
DESCRIPTION:Kunnariketun pesisliikkari järjestetään 28.5.-27.8.2026 tors
 taisin klo 17:00-17:45 Lapin koulun hiekkakentällä.\n\nKunnariketun pesi
 sliikkari on 4-6 vuotiaiden lasten liikuntaleikkikoulu\, jossa kannustetaa
 n lapsia aktiivisuuteen ilon kautta sekä opetellaan tunne- ja vuorovaikut
 ustaitoja. Mukaan lapsi tarvitsee säänmukaiset liikuntavaatteet sekä ju
 omapullon. Lapsi voi osallistua liikkariin itsenäisesti tai vanhemman kan
 ssa.\n\nKunnariketun pesisliikkarin hinta on 65€.\n\nPesisliikkarimaksu 
 sisältää 13 ohjattua liikkarikertaa\, pesispassin sekä OP Pohjolan spo
 rttivakuutuksen. Juhannusviikolla ei ole liikkaria\n\nJotta saamme hankitt
 ua lapselle pesispassin ja vakuutuksen\, tulee meillä olla tiedossa lapse
 n Sportti-ID. Rekisteröitymällä Suomisporttiin henkilö saa oman henkil
 ökohtaisen sporttitilin ja Sportti-ID:n. Alaikäisten kohdalla huoltaja r
 ekisteröityy ensin ja liittää sen jälkeen huollettavan profiilinsa all
 e. Molemmille tulee oma henkilökohtainen Sportti-ID. Tilin luomisen tai l
 apsen profiilin linkittämisen ongelmatilanteissa ole yhteydessä suomispo
 rt@asiakaspalvelu.fi.\n\nTilin voi luoda osoitteessa www.suomisport.fi koh
 dasta Kirjaudu.\n\nTästä voit katsoa ohjevideon sporttitilin luomiseen:\
 nhttps://www.youtube.com/watch?v=r4UScEULX10&feature=youtu.be\n\nKun olet 
 rekisteröinyt lapsesi Suomisporttiin käy tallentamassa lapsen Sportti-ID
  numero MyClubin lisenssi-ID kenttään\, joten me voimme hankkia hänelle
  pesispassin ja vakuutuksen.\n\nhttps://fera.myclub.fi/flow/events/1043705
 7
LOCATION:Lapin koulun hiekkakenttä\, 
SEQUENCE:0
SUMMARY:Fera ry: Kunnariketun pesisliikkari\, kesä 2026\, torstain ryhmä 
 LAPPI
URL;VALUE=URI:https://fera.myclub.fi/flow/events/10437057
END:VEVENT
END:VCALENDAR
