BEGIN:VCALENDAR
VERSION:2.0
PRODID:icalendar-ruby
CALSCALE:GREGORIAN
X-WR-TIMEZONE:Europe/Helsinki
BEGIN:VTIMEZONE
TZID:Europe/Helsinki
BEGIN:DAYLIGHT
DTSTART:20260329T040000
TZOFFSETFROM:+0200
TZOFFSETTO:+0300
RRULE:FREQ=YEARLY;BYDAY=-1SU;BYMONTH=3
TZNAME:EEST
END:DAYLIGHT
BEGIN:STANDARD
DTSTART:20261025T030000
TZOFFSETFROM:+0300
TZOFFSETTO:+0200
RRULE:FREQ=YEARLY;BYDAY=-1SU;BYMONTH=10
TZNAME:EET
END:STANDARD
END:VTIMEZONE
BEGIN:VEVENT
DTSTAMP:20260420T204757
UID:fera.myclub.fi-10436908
DTSTART;TZID=Europe/Helsinki:20260526T170000
DTEND;TZID=Europe/Helsinki:20260526T170000
DESCRIPTION:Kunnariketun pesisliikkari järjestetään 26.5.-25.8.2026 tiis
 taisin klo 17:00-17:45 Lähdepellolla.\nKunnariketun pesisliikkari on 4-6 
 vuotiaiden lasten liikuntaleikkikoulu\, jossa kannustetaan lapsia aktiivis
 uuteen ilon kautta sekä opetellaan tunne- ja vuorovaikutustaitoja. Mukaan
  lapsi tarvitsee säänmukaiset liikuntavaatteet sekä juomapullon. Lapsi 
 voi osallistua liikkariin itsenäisesti tai vanhemman kanssa. \nKunnariket
 un pesisliikkarin hinta on 65€.\nPesisliikkarimaksu sisältää 14 ohjat
 tua liikkarikertaa\, pesispassin sekä OP Pohjolan sporttivakuutuksen.\n\n
 Jotta saamme hankittua lapselle pesispassin ja vakuutuksen\, tulee meillä
  olla tiedossa lapsen Sportti-ID. Rekisteröitymällä Suomisporttiin henk
 ilö saa oman henkilökohtaisen sporttitilin ja Sportti-ID:n. Alaikäisten
  kohdalla huoltaja rekisteröityy ensin ja liittää sen jälkeen huollett
 avan profiilinsa alle. Molemmille tulee oma henkilökohtainen Sportti-ID. 
 Tilin luomisen tai lapsen profiilin linkittämisen ongelmatilanteissa ole 
 yhteydessä suomisport@asiakaspalvelu.fi.\nTilin voi luoda osoitteessa www
 .suomisport.fi kohdasta Kirjaudu.\nTästä voit katsoa ohjevideon sporttit
 ilin luomiseen: https://www.youtube.com/watch?v=r4UScEULX10&feature=youtu.
 be\nKun olet rekisteröinyt lapsesi Suomisporttiin käy tallentamassa laps
 en Sportti-ID numero MyClubin lisenssi-ID kenttään\, joten me voimme han
 kkia hänelle pesispassin ja vakuutuksen.\n\nhttps://fera.myclub.fi/flow/e
 vents/10436908
LOCATION:Lähdepelto\, 
SEQUENCE:0
SUMMARY:Fera ry: Kunnariketun pesisliikkari\, kesä 2026\, tiistain ryhmä 
 LÄHDEPELTO
URL;VALUE=URI:https://fera.myclub.fi/flow/events/10436908
END:VEVENT
END:VCALENDAR
